BEGIN:VCALENDAR
VERSION:2.0
PRODID:-//Cheer Up Charlies - ECPv6.15.20//NONSGML v1.0//EN
CALSCALE:GREGORIAN
METHOD:PUBLISH
X-ORIGINAL-URL:https://cheerupcharlies.com
X-WR-CALDESC:Events for Cheer Up Charlies
REFRESH-INTERVAL;VALUE=DURATION:PT1H
X-Robots-Tag:noindex
X-PUBLISHED-TTL:PT1H
BEGIN:VTIMEZONE
TZID:America/New_York
BEGIN:DAYLIGHT
TZOFFSETFROM:-0500
TZOFFSETTO:-0400
TZNAME:EDT
DTSTART:20200308T070000
END:DAYLIGHT
BEGIN:STANDARD
TZOFFSETFROM:-0400
TZOFFSETTO:-0500
TZNAME:EST
DTSTART:20201101T060000
END:STANDARD
BEGIN:DAYLIGHT
TZOFFSETFROM:-0500
TZOFFSETTO:-0400
TZNAME:EDT
DTSTART:20210314T070000
END:DAYLIGHT
BEGIN:STANDARD
TZOFFSETFROM:-0400
TZOFFSETTO:-0500
TZNAME:EST
DTSTART:20211107T060000
END:STANDARD
BEGIN:DAYLIGHT
TZOFFSETFROM:-0500
TZOFFSETTO:-0400
TZNAME:EDT
DTSTART:20220313T070000
END:DAYLIGHT
BEGIN:STANDARD
TZOFFSETFROM:-0400
TZOFFSETTO:-0500
TZNAME:EST
DTSTART:20221106T060000
END:STANDARD
END:VTIMEZONE
BEGIN:VEVENT
DTSTART;VALUE=DATE:20210801
DTEND;VALUE=DATE:20210802
DTSTAMP:20260424T132621
CREATED:20210729T201906Z
LAST-MODIFIED:20210729T201906Z
UID:14375-1627776000-1627862399@cheerupcharlies.com
SUMMARY:8/1 DJs Ashmar & Ella Ella
DESCRIPTION:
URL:https://cheerupcharlies.com/event/8-1-djs-ashmar-ella-ella/
END:VEVENT
BEGIN:VEVENT
DTSTART;VALUE=DATE:20210805
DTEND;VALUE=DATE:20210806
DTSTAMP:20260424T132621
CREATED:20210729T202058Z
LAST-MODIFIED:20210805T191613Z
UID:14380-1628121600-1628207999@cheerupcharlies.com
SUMMARY:8/5 DJ Orya
DESCRIPTION:
URL:https://cheerupcharlies.com/event/8-5-afro-discoteca-with-djs-lilith-neetbeatz-suxxy-puxxy-supermcn4sty/
END:VEVENT
BEGIN:VEVENT
DTSTART;VALUE=DATE:20210806
DTEND;VALUE=DATE:20210807
DTSTAMP:20260424T132621
CREATED:20210804T191302Z
LAST-MODIFIED:20210804T191302Z
UID:14385-1628208000-1628294399@cheerupcharlies.com
SUMMARY:8/6 DJs Dreamy Days & Lynxy
DESCRIPTION:
URL:https://cheerupcharlies.com/event/8-6-djs-dreamy-days-lynxy/
END:VEVENT
BEGIN:VEVENT
DTSTART;VALUE=DATE:20210807
DTEND;VALUE=DATE:20210808
DTSTAMP:20260424T132621
CREATED:20210804T191805Z
LAST-MODIFIED:20210804T191805Z
UID:14390-1628294400-1628380799@cheerupcharlies.com
SUMMARY:8/7 Fuego ATX: Queer Market\, Performances & Music
DESCRIPTION:
URL:https://cheerupcharlies.com/event/8-7-fuego-atx-queer-market-performances-music/
END:VEVENT
BEGIN:VEVENT
DTSTART;VALUE=DATE:20210808
DTEND;VALUE=DATE:20210809
DTSTAMP:20260424T132621
CREATED:20210806T163707Z
LAST-MODIFIED:20210806T163707Z
UID:14409-1628380800-1628467199@cheerupcharlies.com
SUMMARY:8/8 The L Word Screening Premiere
DESCRIPTION:
URL:https://cheerupcharlies.com/event/8-8-the-l-word-screening-premiere/
END:VEVENT
BEGIN:VEVENT
DTSTART;VALUE=DATE:20210810
DTEND;VALUE=DATE:20210811
DTSTAMP:20260424T132621
CREATED:20210810T161737Z
LAST-MODIFIED:20210810T161737Z
UID:14430-1628553600-1628639999@cheerupcharlies.com
SUMMARY:8/10 Exclusive DJ Set with Fat Tony & Total Request Crew
DESCRIPTION:
URL:https://cheerupcharlies.com/event/8-10-exclusive-dj-set-with-fat-tony-total-request-crew/
END:VEVENT
BEGIN:VEVENT
DTSTART;VALUE=DATE:20210812
DTEND;VALUE=DATE:20210813
DTSTAMP:20260424T132621
CREATED:20210810T161440Z
LAST-MODIFIED:20210810T161440Z
UID:14420-1628726400-1628812799@cheerupcharlies.com
SUMMARY:8/12 Noche de Bichotas with DJs Channel\, La Morena\, Gabby Got It & La Moon
DESCRIPTION:
URL:https://cheerupcharlies.com/event/8-12-noche-de-bichotas-with-djs-channel-la-morena-gabby-got-it-la-moon/
END:VEVENT
BEGIN:VEVENT
DTSTART;VALUE=DATE:20210813
DTEND;VALUE=DATE:20210814
DTSTAMP:20260424T132621
CREATED:20210810T162353Z
LAST-MODIFIED:20210810T162353Z
UID:14435-1628812800-1628899199@cheerupcharlies.com
SUMMARY:8/13 Fuego ATX: Queer Market\, Performances & Music
DESCRIPTION:
URL:https://cheerupcharlies.com/event/8-13-fuego-atx-queer-market-performances-music/
END:VEVENT
BEGIN:VEVENT
DTSTART;VALUE=DATE:20210814
DTEND;VALUE=DATE:20210815
DTSTAMP:20260424T132621
CREATED:20210810T161611Z
LAST-MODIFIED:20210810T161611Z
UID:14425-1628899200-1628985599@cheerupcharlies.com
SUMMARY:8/14 Queer Up Charlies with Cap'n Tits\, Maria Maria\, Boyfriend ATX\, Brigitte Bandit\, Belladonna & KICKIT
DESCRIPTION:
URL:https://cheerupcharlies.com/event/8-14-queer-up-charlies-with-capn-tits-maria-maria-boyfriend-atx-brigitte-bandit-belladonna-kickit/
END:VEVENT
BEGIN:VEVENT
DTSTART;VALUE=DATE:20210819
DTEND;VALUE=DATE:20210820
DTSTAMP:20260424T132621
CREATED:20210817T193859Z
LAST-MODIFIED:20210817T193859Z
UID:14458-1629331200-1629417599@cheerupcharlies.com
SUMMARY:8/19 Dyke Season with Fame Made\, Betchita\, Malika
DESCRIPTION:
URL:https://cheerupcharlies.com/event/8-19-dyke-season-with-fame-made-betchita-malika/
END:VEVENT
BEGIN:VEVENT
DTSTART;VALUE=DATE:20210820
DTEND;VALUE=DATE:20210821
DTSTAMP:20260424T132621
CREATED:20210805T191325Z
LAST-MODIFIED:20210805T191325Z
UID:14397-1629417600-1629503999@cheerupcharlies.com
SUMMARY:8/20 Front Fest Music Showcase with Kam Franklin
DESCRIPTION:
URL:https://cheerupcharlies.com/event/8-20-front-fest-music-showcase-with-kam-franklin/
END:VEVENT
BEGIN:VEVENT
DTSTART;VALUE=DATE:20210821
DTEND;VALUE=DATE:20210822
DTSTAMP:20260424T132621
CREATED:20210805T191455Z
LAST-MODIFIED:20210805T191455Z
UID:14402-1629504000-1629590399@cheerupcharlies.com
SUMMARY:8/21 Front Fest Music Showcase with p1nkstar
DESCRIPTION:
URL:https://cheerupcharlies.com/event/8-21-front-fest-music-showcase-with-p1nkstar/
END:VEVENT
BEGIN:VEVENT
DTSTART;VALUE=DATE:20210822
DTEND;VALUE=DATE:20210823
DTSTAMP:20260424T132621
CREATED:20210823T194219Z
LAST-MODIFIED:20210823T194219Z
UID:14479-1629590400-1629676799@cheerupcharlies.com
SUMMARY:8/22 Capyac DJ Set
DESCRIPTION:
URL:https://cheerupcharlies.com/event/8-22-capyac-dj-set/
END:VEVENT
BEGIN:VEVENT
DTSTART;VALUE=DATE:20210826
DTEND;VALUE=DATE:20210827
DTSTAMP:20260424T132621
CREATED:20210816T225935Z
LAST-MODIFIED:20210823T194545Z
UID:14441-1629936000-1630022399@cheerupcharlies.com
SUMMARY:8/26 Hot Summer Nights with Big Bill\, TV's Daniel\, Chucky Blk\, Tyson Swindell (DJ set)
DESCRIPTION:
URL:https://cheerupcharlies.com/event/8-26-hot-summer-nights-with-big-bill-tvs-daniel-chucky-blk/
END:VEVENT
BEGIN:VEVENT
DTSTART;VALUE=DATE:20210827
DTEND;VALUE=DATE:20210828
DTSTAMP:20260424T132621
CREATED:20210816T230052Z
LAST-MODIFIED:20210816T230052Z
UID:14446-1630022400-1630108799@cheerupcharlies.com
SUMMARY:8/27 Hot Summer Nights with Mélat\, Y2K\, Daphne Tunes\, Felt Out (formerly Emme)
DESCRIPTION:
URL:https://cheerupcharlies.com/event/8-27-hot-summer-nights-with-melat-y2k-daphne-tunes-felt-out-formerly-emme/
END:VEVENT
BEGIN:VEVENT
DTSTART;VALUE=DATE:20210827
DTEND;VALUE=DATE:20210828
DTSTAMP:20260424T132621
CREATED:20210820T195757Z
LAST-MODIFIED:20210820T195757Z
UID:14464-1630022400-1630108799@cheerupcharlies.com
SUMMARY:8/27 Hot Summer Nights Afterparty with DJ BoyFriend
DESCRIPTION:
URL:https://cheerupcharlies.com/event/8-27-hot-summer-nights-afterparty-with-dj-boyfriend/
END:VEVENT
BEGIN:VEVENT
DTSTART;VALUE=DATE:20210828
DTEND;VALUE=DATE:20210829
DTSTAMP:20260424T132621
CREATED:20210816T230152Z
LAST-MODIFIED:20210816T230152Z
UID:14451-1630108800-1630195199@cheerupcharlies.com
SUMMARY:8/28 Hot Summer Nights with Mama Duke\, Torre Blake\, Being Dead\, Van Mary
DESCRIPTION:
URL:https://cheerupcharlies.com/event/8-28-hot-summer-nights-with-mama-duke-torre-blake-being-dead-van-mary/
END:VEVENT
BEGIN:VEVENT
DTSTART;VALUE=DATE:20210828
DTEND;VALUE=DATE:20210829
DTSTAMP:20260424T132621
CREATED:20210820T200327Z
LAST-MODIFIED:20210820T200327Z
UID:14468-1630108800-1630195199@cheerupcharlies.com
SUMMARY:8/28 Hot Summer Nights Afterparty with DJ Q
DESCRIPTION:
URL:https://cheerupcharlies.com/event/8-28-hot-summer-nights-afterparty-with-dj-q/
END:VEVENT
BEGIN:VEVENT
DTSTART;VALUE=DATE:20210829
DTEND;VALUE=DATE:20210830
DTSTAMP:20260424T132621
CREATED:20210823T194431Z
LAST-MODIFIED:20210823T194431Z
UID:14484-1630195200-1630281599@cheerupcharlies.com
SUMMARY:8/29 Lonestar Queer Presents A Night of 1\,000 Mileys
DESCRIPTION:
URL:https://cheerupcharlies.com/event/8-29-lonestar-queer-presents-a-night-of-1000-mileys/
END:VEVENT
END:VCALENDAR