BEGIN:VCALENDAR
VERSION:2.0
PRODID:-//Cheer Up Charlies - ECPv6.15.20//NONSGML v1.0//EN
CALSCALE:GREGORIAN
METHOD:PUBLISH
X-ORIGINAL-URL:https://cheerupcharlies.com
X-WR-CALDESC:Events for Cheer Up Charlies
REFRESH-INTERVAL;VALUE=DURATION:PT1H
X-Robots-Tag:noindex
X-PUBLISHED-TTL:PT1H
BEGIN:VTIMEZONE
TZID:America/New_York
BEGIN:DAYLIGHT
TZOFFSETFROM:-0500
TZOFFSETTO:-0400
TZNAME:EDT
DTSTART:20240310T070000
END:DAYLIGHT
BEGIN:STANDARD
TZOFFSETFROM:-0400
TZOFFSETTO:-0500
TZNAME:EST
DTSTART:20241103T060000
END:STANDARD
BEGIN:DAYLIGHT
TZOFFSETFROM:-0500
TZOFFSETTO:-0400
TZNAME:EDT
DTSTART:20250309T070000
END:DAYLIGHT
BEGIN:STANDARD
TZOFFSETFROM:-0400
TZOFFSETTO:-0500
TZNAME:EST
DTSTART:20251102T060000
END:STANDARD
BEGIN:DAYLIGHT
TZOFFSETFROM:-0500
TZOFFSETTO:-0400
TZNAME:EDT
DTSTART:20260308T070000
END:DAYLIGHT
BEGIN:STANDARD
TZOFFSETFROM:-0400
TZOFFSETTO:-0500
TZNAME:EST
DTSTART:20261101T060000
END:STANDARD
END:VTIMEZONE
BEGIN:VEVENT
DTSTART;VALUE=DATE:20250705
DTEND;VALUE=DATE:20250706
DTSTAMP:20260425T081933
CREATED:20250610T150810Z
LAST-MODIFIED:20250610T150810Z
UID:21882-1751673600-1751759999@cheerupcharlies.com
SUMMARY:7/5 Middle School Dance Party with Ed West & Casstevens (10PM)
DESCRIPTION:
URL:https://cheerupcharlies.com/event/7-5-middle-school-dance-party-with-ed-west-casstevens-10pm/
END:VEVENT
BEGIN:VEVENT
DTSTART;VALUE=DATE:20250705
DTEND;VALUE=DATE:20250706
DTSTAMP:20260425T081933
CREATED:20250702T164727Z
LAST-MODIFIED:20250702T164727Z
UID:22031-1751673600-1751759999@cheerupcharlies.com
SUMMARY:7/5 Big Tits\, Bigger Dreams Drag Showcase with Brigitte Bandit\, Karabiner & DJ Turito (6PM)
DESCRIPTION:
URL:https://cheerupcharlies.com/event/7-5-big-tits-bigger-dreams-drag-showcase-with-brigitte-bandit-karabiner-dj-turito-6pm/
END:VEVENT
END:VCALENDAR