BEGIN:VCALENDAR
VERSION:2.0
PRODID:-//Cheer Up Charlies - ECPv6.15.20//NONSGML v1.0//EN
CALSCALE:GREGORIAN
METHOD:PUBLISH
X-WR-CALNAME:Cheer Up Charlies
X-ORIGINAL-URL:https://cheerupcharlies.com
X-WR-CALDESC:Events for Cheer Up Charlies
REFRESH-INTERVAL;VALUE=DURATION:PT1H
X-Robots-Tag:noindex
X-PUBLISHED-TTL:PT1H
BEGIN:VTIMEZONE
TZID:America/New_York
BEGIN:DAYLIGHT
TZOFFSETFROM:-0500
TZOFFSETTO:-0400
TZNAME:EDT
DTSTART:20240310T070000
END:DAYLIGHT
BEGIN:STANDARD
TZOFFSETFROM:-0400
TZOFFSETTO:-0500
TZNAME:EST
DTSTART:20241103T060000
END:STANDARD
BEGIN:DAYLIGHT
TZOFFSETFROM:-0500
TZOFFSETTO:-0400
TZNAME:EDT
DTSTART:20250309T070000
END:DAYLIGHT
BEGIN:STANDARD
TZOFFSETFROM:-0400
TZOFFSETTO:-0500
TZNAME:EST
DTSTART:20251102T060000
END:STANDARD
BEGIN:DAYLIGHT
TZOFFSETFROM:-0500
TZOFFSETTO:-0400
TZNAME:EDT
DTSTART:20260308T070000
END:DAYLIGHT
BEGIN:STANDARD
TZOFFSETFROM:-0400
TZOFFSETTO:-0500
TZNAME:EST
DTSTART:20261101T060000
END:STANDARD
END:VTIMEZONE
BEGIN:VEVENT
DTSTART;VALUE=DATE:20250610
DTEND;VALUE=DATE:20250611
DTSTAMP:20260419T141516
CREATED:20250610T150437Z
LAST-MODIFIED:20250610T150437Z
UID:21873-1749513600-1749599999@cheerupcharlies.com
SUMMARY:6/10 Cherry Bomb Babes: A Lesbian Tuesday Night with DJ Sets by Outer Heaven Disco Club (9PM)
DESCRIPTION:
URL:https://cheerupcharlies.com/event/6-10-cherry-bomb-babes-a-lesbian-tuesday-night-with-dj-sets-by-outer-heaven-disco-club-9pm/
END:VEVENT
BEGIN:VEVENT
DTSTART;VALUE=DATE:20250610
DTEND;VALUE=DATE:20250611
DTSTAMP:20260419T141516
CREATED:20250610T150908Z
LAST-MODIFIED:20250610T150908Z
UID:21885-1749513600-1749599999@cheerupcharlies.com
SUMMARY:6/10 Austin Front Runners Happy Hour & Drag Show (7:30PM)
DESCRIPTION:
URL:https://cheerupcharlies.com/event/6-10-austin-front-runners-happy-hour-drag-show-730pm/
END:VEVENT
END:VCALENDAR