BEGIN:VCALENDAR
VERSION:2.0
PRODID:-//Cheer Up Charlies - ECPv6.15.20//NONSGML v1.0//EN
CALSCALE:GREGORIAN
METHOD:PUBLISH
X-WR-CALNAME:Cheer Up Charlies
X-ORIGINAL-URL:https://cheerupcharlies.com
X-WR-CALDESC:Events for Cheer Up Charlies
REFRESH-INTERVAL;VALUE=DURATION:PT1H
X-Robots-Tag:noindex
X-PUBLISHED-TTL:PT1H
BEGIN:VTIMEZONE
TZID:America/New_York
BEGIN:DAYLIGHT
TZOFFSETFROM:-0500
TZOFFSETTO:-0400
TZNAME:EDT
DTSTART:20240310T070000
END:DAYLIGHT
BEGIN:STANDARD
TZOFFSETFROM:-0400
TZOFFSETTO:-0500
TZNAME:EST
DTSTART:20241103T060000
END:STANDARD
BEGIN:DAYLIGHT
TZOFFSETFROM:-0500
TZOFFSETTO:-0400
TZNAME:EDT
DTSTART:20250309T070000
END:DAYLIGHT
BEGIN:STANDARD
TZOFFSETFROM:-0400
TZOFFSETTO:-0500
TZNAME:EST
DTSTART:20251102T060000
END:STANDARD
BEGIN:DAYLIGHT
TZOFFSETFROM:-0500
TZOFFSETTO:-0400
TZNAME:EDT
DTSTART:20260308T070000
END:DAYLIGHT
BEGIN:STANDARD
TZOFFSETFROM:-0400
TZOFFSETTO:-0500
TZNAME:EST
DTSTART:20261101T060000
END:STANDARD
END:VTIMEZONE
BEGIN:VEVENT
DTSTART;VALUE=DATE:20250314
DTEND;VALUE=DATE:20250315
DTSTAMP:20260419T114258
CREATED:20250305T205300Z
LAST-MODIFIED:20250305T205300Z
UID:21565-1741910400-1741996799@cheerupcharlies.com
SUMMARY:3/14 SXSW Unofficial: Pond x Winspear Present Wishy\, Sofie Royer\, Her New Knife\, Dogs on Shady Lane\, YHWH Nailgun\, Maz\, Native Sun\, Dead Gowns\, Deloyd Elze\, LAKE\, Dutch Interior & Free Range (12PM)
DESCRIPTION:
URL:https://cheerupcharlies.com/event/3-14-sxsw-unofficial-pond-x-winspear-present-wishy-sofie-royer-her-new-knife-dogs-on-shady-lane-yhwh-nailgun-maz-native-sun-dead-gowns-deloyd-elze-lake-dutch-interior-free-range-12pm/
END:VEVENT
BEGIN:VEVENT
DTSTART;VALUE=DATE:20250314
DTEND;VALUE=DATE:20250315
DTSTAMP:20260419T114258
CREATED:20250306T185128Z
LAST-MODIFIED:20250306T185128Z
UID:21576-1741910400-1741996799@cheerupcharlies.com
SUMMARY:3/14 Howdy Gals Presents: Duncan Fellows\, Grandmaster\, TC Superstar\, About You\, Revenge Wife\, Lily Seabird\, Benét\, Two Man Giant Squid\, JW Francis & secret guests (7PM)
DESCRIPTION:
URL:https://cheerupcharlies.com/event/3-14-howdy-gals-presents-duncan-fellows-grandmaster-tc-superstar-about-you-revenge-wife-lily-seabird-benet-two-man-giant-squid-jw-francis-secret-guests-7pm/
END:VEVENT
END:VCALENDAR