BEGIN:VCALENDAR
VERSION:2.0
PRODID:-//Cheer Up Charlies - ECPv6.15.20//NONSGML v1.0//EN
CALSCALE:GREGORIAN
METHOD:PUBLISH
X-WR-CALNAME:Cheer Up Charlies
X-ORIGINAL-URL:https://cheerupcharlies.com
X-WR-CALDESC:Events for Cheer Up Charlies
REFRESH-INTERVAL;VALUE=DURATION:PT1H
X-Robots-Tag:noindex
X-PUBLISHED-TTL:PT1H
BEGIN:VTIMEZONE
TZID:America/New_York
BEGIN:DAYLIGHT
TZOFFSETFROM:-0500
TZOFFSETTO:-0400
TZNAME:EDT
DTSTART:20230312T070000
END:DAYLIGHT
BEGIN:STANDARD
TZOFFSETFROM:-0400
TZOFFSETTO:-0500
TZNAME:EST
DTSTART:20231105T060000
END:STANDARD
BEGIN:DAYLIGHT
TZOFFSETFROM:-0500
TZOFFSETTO:-0400
TZNAME:EDT
DTSTART:20240310T070000
END:DAYLIGHT
BEGIN:STANDARD
TZOFFSETFROM:-0400
TZOFFSETTO:-0500
TZNAME:EST
DTSTART:20241103T060000
END:STANDARD
BEGIN:DAYLIGHT
TZOFFSETFROM:-0500
TZOFFSETTO:-0400
TZNAME:EDT
DTSTART:20250309T070000
END:DAYLIGHT
BEGIN:STANDARD
TZOFFSETFROM:-0400
TZOFFSETTO:-0500
TZNAME:EST
DTSTART:20251102T060000
END:STANDARD
END:VTIMEZONE
BEGIN:VEVENT
DTSTART;VALUE=DATE:20241214
DTEND;VALUE=DATE:20241215
DTSTAMP:20260421T154204
CREATED:20241127T192617Z
LAST-MODIFIED:20241127T192617Z
UID:21075-1734134400-1734220799@cheerupcharlies.com
SUMMARY:12/14 TS XV: A Trans Quince with Kino Kino\, Honey Baby\, Salem Purchase\, Roxanne\, Papi Culo\, Lilith Azazel\, Brigitte Bandit\, Moxie\, Scam Likely & DJ SHYMargiela (10PM)
DESCRIPTION:
URL:https://cheerupcharlies.com/event/12-14-ts-xv-a-trans-quince-with-kino-kino-honey-baby-salem-purchase-roxanne-papi-culo-lilith-azazel-brigitte-bandit-moxie-scam-likely-dj-shymargiela-10pm/
END:VEVENT
BEGIN:VEVENT
DTSTART;VALUE=DATE:20241214
DTEND;VALUE=DATE:20241215
DTSTAMP:20260421T154204
CREATED:20241230T174439Z
LAST-MODIFIED:20241230T174439Z
UID:21261-1734134400-1734220799@cheerupcharlies.com
SUMMARY:12/14 DJ Q & Lucia Beyond (10PM)
DESCRIPTION:
URL:https://cheerupcharlies.com/event/12-14-dj-q-lucia-beyond-10pm/
END:VEVENT
BEGIN:VEVENT
DTSTART;VALUE=DATE:20241214
DTEND;VALUE=DATE:20241215
DTSTAMP:20260421T154204
CREATED:20241230T174623Z
LAST-MODIFIED:20241230T174623Z
UID:21264-1734134400-1734220799@cheerupcharlies.com
SUMMARY:12/14 Big Tits\, Wicked Dreams Open Mic Drag with Brigitte Bandit\, Miz Zgi Zgi & DJ Lavender Thug (6PM)
DESCRIPTION:
URL:https://cheerupcharlies.com/event/12-14-big-tits-wicked-dreams-open-mic-drag-with-brigitte-bandit-miz-zgi-zgi-dj-lavender-thug-6pm/
END:VEVENT
END:VCALENDAR