BEGIN:VCALENDAR
VERSION:2.0
PRODID:-//Cheer Up Charlies - ECPv6.15.20//NONSGML v1.0//EN
CALSCALE:GREGORIAN
METHOD:PUBLISH
X-WR-CALNAME:Cheer Up Charlies
X-ORIGINAL-URL:https://cheerupcharlies.com
X-WR-CALDESC:Events for Cheer Up Charlies
REFRESH-INTERVAL;VALUE=DURATION:PT1H
X-Robots-Tag:noindex
X-PUBLISHED-TTL:PT1H
BEGIN:VTIMEZONE
TZID:America/New_York
BEGIN:DAYLIGHT
TZOFFSETFROM:-0500
TZOFFSETTO:-0400
TZNAME:EDT
DTSTART:20230312T070000
END:DAYLIGHT
BEGIN:STANDARD
TZOFFSETFROM:-0400
TZOFFSETTO:-0500
TZNAME:EST
DTSTART:20231105T060000
END:STANDARD
BEGIN:DAYLIGHT
TZOFFSETFROM:-0500
TZOFFSETTO:-0400
TZNAME:EDT
DTSTART:20240310T070000
END:DAYLIGHT
BEGIN:STANDARD
TZOFFSETFROM:-0400
TZOFFSETTO:-0500
TZNAME:EST
DTSTART:20241103T060000
END:STANDARD
BEGIN:DAYLIGHT
TZOFFSETFROM:-0500
TZOFFSETTO:-0400
TZNAME:EDT
DTSTART:20250309T070000
END:DAYLIGHT
BEGIN:STANDARD
TZOFFSETFROM:-0400
TZOFFSETTO:-0500
TZNAME:EST
DTSTART:20251102T060000
END:STANDARD
END:VTIMEZONE
BEGIN:VEVENT
DTSTART;VALUE=DATE:20240811
DTEND;VALUE=DATE:20240812
DTSTAMP:20260420T103735
CREATED:20240801T192219Z
LAST-MODIFIED:20240801T192219Z
UID:20333-1723334400-1723420799@cheerupcharlies.com
SUMMARY:8/11 Soft Serve: A Celebration of R&B Music with Gothess Jasmine\, Keisha Fawn\, Maya Diosa\, Jermaine & BabiBoi (9PM)
DESCRIPTION:
URL:https://cheerupcharlies.com/event/8-11-soft-serve-a-celebration-of-rb-music-with-gothess-jasmine-keisha-fawn-maya-diosa-jermaine-babiboi-9pm/
END:VEVENT
BEGIN:VEVENT
DTSTART;VALUE=DATE:20240811
DTEND;VALUE=DATE:20240812
DTSTAMP:20260420T103735
CREATED:20240812T210456Z
LAST-MODIFIED:20240812T210456Z
UID:20396-1723334400-1723420799@cheerupcharlies.com
SUMMARY:8/11 Dyscotek: Nufunk NuDisco & DancePop with DJ WY (6PM)
DESCRIPTION:
URL:https://cheerupcharlies.com/event/8-11-dyscotek-nufunk-nudisco-dancepop-with-dj-wy-6pm/
END:VEVENT
END:VCALENDAR