BEGIN:VCALENDAR
VERSION:2.0
PRODID:-//Cheer Up Charlies - ECPv6.15.20//NONSGML v1.0//EN
CALSCALE:GREGORIAN
METHOD:PUBLISH
X-ORIGINAL-URL:https://cheerupcharlies.com
X-WR-CALDESC:Events for Cheer Up Charlies
REFRESH-INTERVAL;VALUE=DURATION:PT1H
X-Robots-Tag:noindex
X-PUBLISHED-TTL:PT1H
BEGIN:VTIMEZONE
TZID:America/New_York
BEGIN:DAYLIGHT
TZOFFSETFROM:-0500
TZOFFSETTO:-0400
TZNAME:EDT
DTSTART:20230312T070000
END:DAYLIGHT
BEGIN:STANDARD
TZOFFSETFROM:-0400
TZOFFSETTO:-0500
TZNAME:EST
DTSTART:20231105T060000
END:STANDARD
BEGIN:DAYLIGHT
TZOFFSETFROM:-0500
TZOFFSETTO:-0400
TZNAME:EDT
DTSTART:20240310T070000
END:DAYLIGHT
BEGIN:STANDARD
TZOFFSETFROM:-0400
TZOFFSETTO:-0500
TZNAME:EST
DTSTART:20241103T060000
END:STANDARD
BEGIN:DAYLIGHT
TZOFFSETFROM:-0500
TZOFFSETTO:-0400
TZNAME:EDT
DTSTART:20250309T070000
END:DAYLIGHT
BEGIN:STANDARD
TZOFFSETFROM:-0400
TZOFFSETTO:-0500
TZNAME:EST
DTSTART:20251102T060000
END:STANDARD
END:VTIMEZONE
BEGIN:VEVENT
DTSTART;VALUE=DATE:20240712
DTEND;VALUE=DATE:20240713
DTSTAMP:20260420T190737
CREATED:20240618T152246Z
LAST-MODIFIED:20240618T152246Z
UID:19959-1720742400-1720828799@cheerupcharlies.com
SUMMARY:7/12 Club Coma Single Release with TC Superstar\, Dossey (Single Release)\, Genuine Leather\, Vermin the Villain\, HOT///CAKES & Street Peach (8PM)
DESCRIPTION:
URL:https://cheerupcharlies.com/event/7-12-club-coma-single-release-with-tc-superstar-dossey-single-release-genuine-leather-vermin-the-villain-hot-cakes-street-peach-8pm/
END:VEVENT
BEGIN:VEVENT
DTSTART;VALUE=DATE:20240712
DTEND;VALUE=DATE:20240713
DTSTAMP:20260420T190737
CREATED:20240715T151221Z
LAST-MODIFIED:20240715T151221Z
UID:20213-1720742400-1720828799@cheerupcharlies.com
SUMMARY:7/12 RuPaul’s Drag Race All Stars with Miss Good & Chique Fil-Atio (6PM)
DESCRIPTION:
URL:https://cheerupcharlies.com/event/7-12-rupauls-drag-race-all-stars-with-miss-good-chique-fil-atio-6pm/
END:VEVENT
END:VCALENDAR