BEGIN:VCALENDAR
VERSION:2.0
PRODID:-//Cheer Up Charlies - ECPv6.15.20//NONSGML v1.0//EN
CALSCALE:GREGORIAN
METHOD:PUBLISH
X-ORIGINAL-URL:https://cheerupcharlies.com
X-WR-CALDESC:Events for Cheer Up Charlies
REFRESH-INTERVAL;VALUE=DURATION:PT1H
X-Robots-Tag:noindex
X-PUBLISHED-TTL:PT1H
BEGIN:VTIMEZONE
TZID:America/New_York
BEGIN:DAYLIGHT
TZOFFSETFROM:-0500
TZOFFSETTO:-0400
TZNAME:EDT
DTSTART:20230312T070000
END:DAYLIGHT
BEGIN:STANDARD
TZOFFSETFROM:-0400
TZOFFSETTO:-0500
TZNAME:EST
DTSTART:20231105T060000
END:STANDARD
BEGIN:DAYLIGHT
TZOFFSETFROM:-0500
TZOFFSETTO:-0400
TZNAME:EDT
DTSTART:20240310T070000
END:DAYLIGHT
BEGIN:STANDARD
TZOFFSETFROM:-0400
TZOFFSETTO:-0500
TZNAME:EST
DTSTART:20241103T060000
END:STANDARD
BEGIN:DAYLIGHT
TZOFFSETFROM:-0500
TZOFFSETTO:-0400
TZNAME:EDT
DTSTART:20250309T070000
END:DAYLIGHT
BEGIN:STANDARD
TZOFFSETFROM:-0400
TZOFFSETTO:-0500
TZNAME:EST
DTSTART:20251102T060000
END:STANDARD
END:VTIMEZONE
BEGIN:VEVENT
DTSTART;VALUE=DATE:20240526
DTEND;VALUE=DATE:20240527
DTSTAMP:20260419T083108
CREATED:20240523T161144Z
LAST-MODIFIED:20240523T161144Z
UID:19722-1716681600-1716767999@cheerupcharlies.com
SUMMARY:5/26 Strike a Pose! with Diamond Dior Davenport & Sinful Purchase (5PM)
DESCRIPTION:
URL:https://cheerupcharlies.com/event/5-26-strike-a-pose-with-diamond-dior-davenport-sinful-purchase-5pm/
END:VEVENT
BEGIN:VEVENT
DTSTART;VALUE=DATE:20240526
DTEND;VALUE=DATE:20240527
DTSTAMP:20260419T083108
CREATED:20240528T155112Z
LAST-MODIFIED:20240528T155112Z
UID:19748-1716681600-1716767999@cheerupcharlies.com
SUMMARY:5/26 Soft Serve: A Celebration of R&B Music with Gothess Jasmine\, Babiboi\, Miss B Nasty & Gabriela Belmont (9PM)
DESCRIPTION:
URL:https://cheerupcharlies.com/event/5-26-soft-serve-a-celebration-of-rb-music-with-gothess-jasmine-babiboi-miss-b-nasty-gabriela-belmont-9pm/
END:VEVENT
END:VCALENDAR