BEGIN:VCALENDAR
VERSION:2.0
PRODID:-//Cheer Up Charlies - ECPv6.15.20//NONSGML v1.0//EN
CALSCALE:GREGORIAN
METHOD:PUBLISH
X-WR-CALNAME:Cheer Up Charlies
X-ORIGINAL-URL:https://cheerupcharlies.com
X-WR-CALDESC:Events for Cheer Up Charlies
REFRESH-INTERVAL;VALUE=DURATION:PT1H
X-Robots-Tag:noindex
X-PUBLISHED-TTL:PT1H
BEGIN:VTIMEZONE
TZID:America/New_York
BEGIN:DAYLIGHT
TZOFFSETFROM:-0500
TZOFFSETTO:-0400
TZNAME:EDT
DTSTART:20220313T070000
END:DAYLIGHT
BEGIN:STANDARD
TZOFFSETFROM:-0400
TZOFFSETTO:-0500
TZNAME:EST
DTSTART:20221106T060000
END:STANDARD
BEGIN:DAYLIGHT
TZOFFSETFROM:-0500
TZOFFSETTO:-0400
TZNAME:EDT
DTSTART:20230312T070000
END:DAYLIGHT
BEGIN:STANDARD
TZOFFSETFROM:-0400
TZOFFSETTO:-0500
TZNAME:EST
DTSTART:20231105T060000
END:STANDARD
BEGIN:DAYLIGHT
TZOFFSETFROM:-0500
TZOFFSETTO:-0400
TZNAME:EDT
DTSTART:20240310T070000
END:DAYLIGHT
BEGIN:STANDARD
TZOFFSETFROM:-0400
TZOFFSETTO:-0500
TZNAME:EST
DTSTART:20241103T060000
END:STANDARD
END:VTIMEZONE
BEGIN:VEVENT
DTSTART;VALUE=DATE:20231209
DTEND;VALUE=DATE:20231210
DTSTAMP:20260422T010129
CREATED:20231117T174838Z
LAST-MODIFIED:20231117T174838Z
UID:18541-1702080000-1702166399@cheerupcharlies.com
SUMMARY:12/9 GLAZE Vol IX Release Party
DESCRIPTION:
URL:https://cheerupcharlies.com/event/12-9-glaze-vol-ix-release-party/
END:VEVENT
BEGIN:VEVENT
DTSTART;VALUE=DATE:20231209
DTEND;VALUE=DATE:20231210
DTSTAMP:20260422T010129
CREATED:20231130T172342Z
LAST-MODIFIED:20231130T172342Z
UID:18621-1702080000-1702166399@cheerupcharlies.com
SUMMARY:12/9 Sanrio Drag Show with Kino Kino\, Gender Destruction\, Evah Destruction\, MK ULTRA\, Lavender Thug\, Dear Dandy\, Angela Just Angela\, Moxie\, Owen Alimony & Munster Mash (7PM)
DESCRIPTION:
URL:https://cheerupcharlies.com/event/12-9-sanrio-drag-show-with-kino-kino-gender-destruction-evah-destruction-mk-ultra-lavender-thug-dear-dandy-angela-just-angela-moxie-owen-alimony-munster-mash-7pm/
END:VEVENT
END:VCALENDAR