BEGIN:VCALENDAR
VERSION:2.0
PRODID:-//Cheer Up Charlies - ECPv6.15.20//NONSGML v1.0//EN
CALSCALE:GREGORIAN
METHOD:PUBLISH
X-WR-CALNAME:Cheer Up Charlies
X-ORIGINAL-URL:https://cheerupcharlies.com
X-WR-CALDESC:Events for Cheer Up Charlies
REFRESH-INTERVAL;VALUE=DURATION:PT1H
X-Robots-Tag:noindex
X-PUBLISHED-TTL:PT1H
BEGIN:VTIMEZONE
TZID:America/New_York
BEGIN:DAYLIGHT
TZOFFSETFROM:-0500
TZOFFSETTO:-0400
TZNAME:EDT
DTSTART:20220313T070000
END:DAYLIGHT
BEGIN:STANDARD
TZOFFSETFROM:-0400
TZOFFSETTO:-0500
TZNAME:EST
DTSTART:20221106T060000
END:STANDARD
BEGIN:DAYLIGHT
TZOFFSETFROM:-0500
TZOFFSETTO:-0400
TZNAME:EDT
DTSTART:20230312T070000
END:DAYLIGHT
BEGIN:STANDARD
TZOFFSETFROM:-0400
TZOFFSETTO:-0500
TZNAME:EST
DTSTART:20231105T060000
END:STANDARD
BEGIN:DAYLIGHT
TZOFFSETFROM:-0500
TZOFFSETTO:-0400
TZNAME:EDT
DTSTART:20240310T070000
END:DAYLIGHT
BEGIN:STANDARD
TZOFFSETFROM:-0400
TZOFFSETTO:-0500
TZNAME:EST
DTSTART:20241103T060000
END:STANDARD
END:VTIMEZONE
BEGIN:VEVENT
DTSTART;VALUE=DATE:20231119
DTEND;VALUE=DATE:20231120
DTSTAMP:20260422T074122
CREATED:20231113T171511Z
LAST-MODIFIED:20231113T171511Z
UID:18506-1700352000-1700438399@cheerupcharlies.com
SUMMARY:11/19 The Austin Gay Men's Chorus Holiday Costume Party (4PM)
DESCRIPTION:
URL:https://cheerupcharlies.com/event/11-19-the-austin-gay-mens-chorus-holiday-costume-party-4pm/
END:VEVENT
BEGIN:VEVENT
DTSTART;VALUE=DATE:20231119
DTEND;VALUE=DATE:20231120
DTSTAMP:20260422T074122
CREATED:20231121T165413Z
LAST-MODIFIED:20231121T165413Z
UID:18552-1700352000-1700438399@cheerupcharlies.com
SUMMARY:11/19 Bone Apple Tea Drag Brunch with Arinna Dior Heys\, Andie Flores\, Venus Rising\, Leia Sakura Dior\, Diamond Dior Davenport & DJ Salem Ofax (8PM)
DESCRIPTION:
URL:https://cheerupcharlies.com/event/11-19-bone-apple-tea-drag-brunch-with-arinna-dior-heys-andie-flores-venus-rising-leia-sakura-dior-diamond-dior-davenport-dj-salem-ofax-8pm/
END:VEVENT
END:VCALENDAR