BEGIN:VCALENDAR
VERSION:2.0
PRODID:-//Cheer Up Charlies - ECPv6.15.20//NONSGML v1.0//EN
CALSCALE:GREGORIAN
METHOD:PUBLISH
X-ORIGINAL-URL:https://cheerupcharlies.com
X-WR-CALDESC:Events for Cheer Up Charlies
REFRESH-INTERVAL;VALUE=DURATION:PT1H
X-Robots-Tag:noindex
X-PUBLISHED-TTL:PT1H
BEGIN:VTIMEZONE
TZID:America/New_York
BEGIN:DAYLIGHT
TZOFFSETFROM:-0500
TZOFFSETTO:-0400
TZNAME:EDT
DTSTART:20220313T070000
END:DAYLIGHT
BEGIN:STANDARD
TZOFFSETFROM:-0400
TZOFFSETTO:-0500
TZNAME:EST
DTSTART:20221106T060000
END:STANDARD
BEGIN:DAYLIGHT
TZOFFSETFROM:-0500
TZOFFSETTO:-0400
TZNAME:EDT
DTSTART:20230312T070000
END:DAYLIGHT
BEGIN:STANDARD
TZOFFSETFROM:-0400
TZOFFSETTO:-0500
TZNAME:EST
DTSTART:20231105T060000
END:STANDARD
BEGIN:DAYLIGHT
TZOFFSETFROM:-0500
TZOFFSETTO:-0400
TZNAME:EDT
DTSTART:20240310T070000
END:DAYLIGHT
BEGIN:STANDARD
TZOFFSETFROM:-0400
TZOFFSETTO:-0500
TZNAME:EST
DTSTART:20241103T060000
END:STANDARD
END:VTIMEZONE
BEGIN:VEVENT
DTSTART;VALUE=DATE:20230727
DTEND;VALUE=DATE:20230728
DTSTAMP:20260422T114900
CREATED:20230726T151321Z
LAST-MODIFIED:20230726T151321Z
UID:17769-1690416000-1690502399@cheerupcharlies.com
SUMMARY:7/27 Mochi Mochi: A Cosplay Drag Show with Leia Sakura\, Louisianna Purchase\, Tatiana Cholula\, Venus Rising\, Dust Bunny\, Petty Cakes & DJ Salem Ofax (10PM)
DESCRIPTION:
URL:https://cheerupcharlies.com/event/7-27-mochi-mochi-a-cosplay-drag-show-with-leia-sakura-louisianna-purchase-tatiana-cholula-venus-rising-dust-bunny-petty-cakes-dj-salem-ofax-10pm/
END:VEVENT
END:VCALENDAR