BEGIN:VCALENDAR
VERSION:2.0
PRODID:-//Cheer Up Charlies - ECPv6.15.20//NONSGML v1.0//EN
CALSCALE:GREGORIAN
METHOD:PUBLISH
X-ORIGINAL-URL:https://cheerupcharlies.com
X-WR-CALDESC:Events for Cheer Up Charlies
REFRESH-INTERVAL;VALUE=DURATION:PT1H
X-Robots-Tag:noindex
X-PUBLISHED-TTL:PT1H
BEGIN:VTIMEZONE
TZID:America/New_York
BEGIN:DAYLIGHT
TZOFFSETFROM:-0500
TZOFFSETTO:-0400
TZNAME:EDT
DTSTART:20210314T070000
END:DAYLIGHT
BEGIN:STANDARD
TZOFFSETFROM:-0400
TZOFFSETTO:-0500
TZNAME:EST
DTSTART:20211107T060000
END:STANDARD
BEGIN:DAYLIGHT
TZOFFSETFROM:-0500
TZOFFSETTO:-0400
TZNAME:EDT
DTSTART:20220313T070000
END:DAYLIGHT
BEGIN:STANDARD
TZOFFSETFROM:-0400
TZOFFSETTO:-0500
TZNAME:EST
DTSTART:20221106T060000
END:STANDARD
BEGIN:DAYLIGHT
TZOFFSETFROM:-0500
TZOFFSETTO:-0400
TZNAME:EDT
DTSTART:20230312T070000
END:DAYLIGHT
BEGIN:STANDARD
TZOFFSETFROM:-0400
TZOFFSETTO:-0500
TZNAME:EST
DTSTART:20231105T060000
END:STANDARD
END:VTIMEZONE
BEGIN:VEVENT
DTSTART;VALUE=DATE:20220827
DTEND;VALUE=DATE:20220828
DTSTAMP:20260422T053019
CREATED:20220817T144441Z
LAST-MODIFIED:20220817T144441Z
UID:15866-1661558400-1661644799@cheerupcharlies.com
SUMMARY:8/27 Cheer Up Charli with Brigitte Bandit & Cyber Queen Drag Show & more
DESCRIPTION:
URL:https://cheerupcharlies.com/event/8-27-cheer-up-charli-with-brigitte-bandit-cyber-queen-drag-show-more/
END:VEVENT
BEGIN:VEVENT
DTSTART;VALUE=DATE:20220827
DTEND;VALUE=DATE:20220828
DTSTAMP:20260422T053019
CREATED:20220826T180610Z
LAST-MODIFIED:20220826T180610Z
UID:15910-1661558400-1661644799@cheerupcharlies.com
SUMMARY:8/27 Slay! Werk! Bewts! with Lavender Thug\, Themme Fatale\, Ashley Sharma\, Riot Girl\, Lucy Fur & more (6PM)
DESCRIPTION:
URL:https://cheerupcharlies.com/event/8-27-slay-werk-bewts-with-lavender-thug-themme-fatale-ashley-sharma-riot-girl-lucy-fur-more-6pm/
END:VEVENT
END:VCALENDAR