BEGIN:VCALENDAR
VERSION:2.0
PRODID:-//Cheer Up Charlies - ECPv6.15.20//NONSGML v1.0//EN
CALSCALE:GREGORIAN
METHOD:PUBLISH
X-ORIGINAL-URL:https://cheerupcharlies.com
X-WR-CALDESC:Events for Cheer Up Charlies
REFRESH-INTERVAL;VALUE=DURATION:PT1H
X-Robots-Tag:noindex
X-PUBLISHED-TTL:PT1H
BEGIN:VTIMEZONE
TZID:America/New_York
BEGIN:DAYLIGHT
TZOFFSETFROM:-0500
TZOFFSETTO:-0400
TZNAME:EDT
DTSTART:20200308T070000
END:DAYLIGHT
BEGIN:STANDARD
TZOFFSETFROM:-0400
TZOFFSETTO:-0500
TZNAME:EST
DTSTART:20201101T060000
END:STANDARD
BEGIN:DAYLIGHT
TZOFFSETFROM:-0500
TZOFFSETTO:-0400
TZNAME:EDT
DTSTART:20210314T070000
END:DAYLIGHT
BEGIN:STANDARD
TZOFFSETFROM:-0400
TZOFFSETTO:-0500
TZNAME:EST
DTSTART:20211107T060000
END:STANDARD
BEGIN:DAYLIGHT
TZOFFSETFROM:-0500
TZOFFSETTO:-0400
TZNAME:EDT
DTSTART:20220313T070000
END:DAYLIGHT
BEGIN:STANDARD
TZOFFSETFROM:-0400
TZOFFSETTO:-0500
TZNAME:EST
DTSTART:20221106T060000
END:STANDARD
END:VTIMEZONE
BEGIN:VEVENT
DTSTART;VALUE=DATE:20210827
DTEND;VALUE=DATE:20210828
DTSTAMP:20260419T094821
CREATED:20210816T230052Z
LAST-MODIFIED:20210816T230052Z
UID:14446-1630022400-1630108799@cheerupcharlies.com
SUMMARY:8/27 Hot Summer Nights with Mélat\, Y2K\, Daphne Tunes\, Felt Out (formerly Emme)
DESCRIPTION:
URL:https://cheerupcharlies.com/event/8-27-hot-summer-nights-with-melat-y2k-daphne-tunes-felt-out-formerly-emme/
END:VEVENT
BEGIN:VEVENT
DTSTART;VALUE=DATE:20210827
DTEND;VALUE=DATE:20210828
DTSTAMP:20260419T094821
CREATED:20210820T195757Z
LAST-MODIFIED:20210820T195757Z
UID:14464-1630022400-1630108799@cheerupcharlies.com
SUMMARY:8/27 Hot Summer Nights Afterparty with DJ BoyFriend
DESCRIPTION:
URL:https://cheerupcharlies.com/event/8-27-hot-summer-nights-afterparty-with-dj-boyfriend/
END:VEVENT
END:VCALENDAR