BEGIN:VCALENDAR
VERSION:2.0
PRODID:-//Cheer Up Charlies - ECPv6.15.20//NONSGML v1.0//EN
CALSCALE:GREGORIAN
METHOD:PUBLISH
X-ORIGINAL-URL:https://cheerupcharlies.com
X-WR-CALDESC:Events for Cheer Up Charlies
REFRESH-INTERVAL;VALUE=DURATION:PT1H
X-Robots-Tag:noindex
X-PUBLISHED-TTL:PT1H
BEGIN:VTIMEZONE
TZID:America/New_York
BEGIN:DAYLIGHT
TZOFFSETFROM:-0500
TZOFFSETTO:-0400
TZNAME:EDT
DTSTART:20190310T070000
END:DAYLIGHT
BEGIN:STANDARD
TZOFFSETFROM:-0400
TZOFFSETTO:-0500
TZNAME:EST
DTSTART:20191103T060000
END:STANDARD
BEGIN:DAYLIGHT
TZOFFSETFROM:-0500
TZOFFSETTO:-0400
TZNAME:EDT
DTSTART:20200308T070000
END:DAYLIGHT
BEGIN:STANDARD
TZOFFSETFROM:-0400
TZOFFSETTO:-0500
TZNAME:EST
DTSTART:20201101T060000
END:STANDARD
BEGIN:DAYLIGHT
TZOFFSETFROM:-0500
TZOFFSETTO:-0400
TZNAME:EDT
DTSTART:20210314T070000
END:DAYLIGHT
BEGIN:STANDARD
TZOFFSETFROM:-0400
TZOFFSETTO:-0500
TZNAME:EST
DTSTART:20211107T060000
END:STANDARD
END:VTIMEZONE
BEGIN:VEVENT
DTSTART;VALUE=DATE:20200303
DTEND;VALUE=DATE:20200304
DTSTAMP:20260423T172640
CREATED:20200208T190708Z
LAST-MODIFIED:20200222T224632Z
UID:13916-1583193600-1583279999@cheerupcharlies.com
SUMMARY:3/3 Pelvis Wrestley\, Stretch Panic\, Fragile Rock (10PM)
DESCRIPTION:
URL:https://cheerupcharlies.com/event/3-3-pelvis-wrestley-stretch-panic-fragile-rock/
END:VEVENT
BEGIN:VEVENT
DTSTART;VALUE=DATE:20200303
DTEND;VALUE=DATE:20200304
DTSTAMP:20260423T172640
CREATED:20200222T224610Z
LAST-MODIFIED:20200222T224610Z
UID:13998-1583193600-1583279999@cheerupcharlies.com
SUMMARY:3/3 Greetings From Queer Mountain Episode #82: Madness! (9PM)
DESCRIPTION:
URL:https://cheerupcharlies.com/event/3-3-greetings-from-queer-mountain-episode-82-madness-9pm/
END:VEVENT
BEGIN:VEVENT
DTSTART;VALUE=DATE:20200303
DTEND;VALUE=DATE:20200304
DTSTAMP:20260423T172640
CREATED:20200301T171138Z
LAST-MODIFIED:20200301T171138Z
UID:14022-1583193600-1583279999@cheerupcharlies.com
SUMMARY:3/3 OKCupid Super Tuesday Happy Hour (5PM)
DESCRIPTION:
URL:https://cheerupcharlies.com/event/3-3-okcupid-super-tuesday-happy-hour-5pm/
END:VEVENT
END:VCALENDAR