BEGIN:VCALENDAR
VERSION:2.0
PRODID:-//Cheer Up Charlies - ECPv6.15.20//NONSGML v1.0//EN
CALSCALE:GREGORIAN
METHOD:PUBLISH
X-WR-CALNAME:Cheer Up Charlies
X-ORIGINAL-URL:https://cheerupcharlies.com
X-WR-CALDESC:Events for Cheer Up Charlies
REFRESH-INTERVAL;VALUE=DURATION:PT1H
X-Robots-Tag:noindex
X-PUBLISHED-TTL:PT1H
BEGIN:VTIMEZONE
TZID:America/New_York
BEGIN:DAYLIGHT
TZOFFSETFROM:-0500
TZOFFSETTO:-0400
TZNAME:EDT
DTSTART:20180311T070000
END:DAYLIGHT
BEGIN:STANDARD
TZOFFSETFROM:-0400
TZOFFSETTO:-0500
TZNAME:EST
DTSTART:20181104T060000
END:STANDARD
BEGIN:DAYLIGHT
TZOFFSETFROM:-0500
TZOFFSETTO:-0400
TZNAME:EDT
DTSTART:20190310T070000
END:DAYLIGHT
BEGIN:STANDARD
TZOFFSETFROM:-0400
TZOFFSETTO:-0500
TZNAME:EST
DTSTART:20191103T060000
END:STANDARD
BEGIN:DAYLIGHT
TZOFFSETFROM:-0500
TZOFFSETTO:-0400
TZNAME:EDT
DTSTART:20200308T070000
END:DAYLIGHT
BEGIN:STANDARD
TZOFFSETFROM:-0400
TZOFFSETTO:-0500
TZNAME:EST
DTSTART:20201101T060000
END:STANDARD
END:VTIMEZONE
BEGIN:VEVENT
DTSTART;VALUE=DATE:20190312
DTEND;VALUE=DATE:20190313
DTSTAMP:20260421T203435
CREATED:20190226T154521Z
LAST-MODIFIED:20190226T154521Z
UID:11748-1552348800-1552435199@cheerupcharlies.com
SUMMARY:3/12 SXSW Stereogum Day One with Nothing\, The Chills\, Priests\, Jess Williamson\, Ratboys\, Bedouine\, Samia\, THYLA\, Black Midi\, Ellis\, Gurr\, Disq
DESCRIPTION:
URL:https://cheerupcharlies.com/event/3-12-sxsw-stereogum-day-one-with-nothing-the-chills-priests-jess-williamson-ratboys-bedouine-samia-thyla-black-midi-ellis-gurr-disq/
END:VEVENT
BEGIN:VEVENT
DTSTART;VALUE=DATE:20190312
DTEND;VALUE=DATE:20190313
DTSTAMP:20260421T203435
CREATED:20190226T155751Z
LAST-MODIFIED:20190226T155751Z
UID:11759-1552348800-1552435199@cheerupcharlies.com
SUMMARY:3/12 Modern Outsider Official SXSW Showcase with The Bright Light Social Hour\, Moving Panoramas\, Walker Lukens\, Ume\, Hard Proof\, Passeport
DESCRIPTION:
URL:https://cheerupcharlies.com/event/3-12-modern-outsider-official-sxsw-showcase-with-the-bright-light-social-hour-moving-panoramas-walker-lukens-ume-hard-proof-passeport/
END:VEVENT
END:VCALENDAR