BEGIN:VCALENDAR
VERSION:2.0
PRODID:-//Cheer Up Charlies - ECPv6.15.20//NONSGML v1.0//EN
CALSCALE:GREGORIAN
METHOD:PUBLISH
X-ORIGINAL-URL:https://cheerupcharlies.com
X-WR-CALDESC:Events for Cheer Up Charlies
REFRESH-INTERVAL;VALUE=DURATION:PT1H
X-Robots-Tag:noindex
X-PUBLISHED-TTL:PT1H
BEGIN:VTIMEZONE
TZID:America/New_York
BEGIN:DAYLIGHT
TZOFFSETFROM:-0500
TZOFFSETTO:-0400
TZNAME:EDT
DTSTART:20170312T070000
END:DAYLIGHT
BEGIN:STANDARD
TZOFFSETFROM:-0400
TZOFFSETTO:-0500
TZNAME:EST
DTSTART:20171105T060000
END:STANDARD
BEGIN:DAYLIGHT
TZOFFSETFROM:-0500
TZOFFSETTO:-0400
TZNAME:EDT
DTSTART:20180311T070000
END:DAYLIGHT
BEGIN:STANDARD
TZOFFSETFROM:-0400
TZOFFSETTO:-0500
TZNAME:EST
DTSTART:20181104T060000
END:STANDARD
BEGIN:DAYLIGHT
TZOFFSETFROM:-0500
TZOFFSETTO:-0400
TZNAME:EDT
DTSTART:20190310T070000
END:DAYLIGHT
BEGIN:STANDARD
TZOFFSETFROM:-0400
TZOFFSETTO:-0500
TZNAME:EST
DTSTART:20191103T060000
END:STANDARD
END:VTIMEZONE
BEGIN:VEVENT
DTSTART;VALUE=DATE:20180113
DTEND;VALUE=DATE:20180114
DTSTAMP:20260421T190714
CREATED:20180103T164157Z
LAST-MODIFIED:20180103T164157Z
UID:8903-1515801600-1515887999@cheerupcharlies.com
SUMMARY:1/13 Planet Claire Presents The Halfways\, Palm Daze\, Geranium Drive\, Jack Ferrara
DESCRIPTION:
URL:https://cheerupcharlies.com/event/1-13-planet-claire-presents-the-halfways-palm-daze-geranium-drive-jack-ferrara/
END:VEVENT
END:VCALENDAR