BEGIN:VCALENDAR
VERSION:2.0
PRODID:-//Cheer Up Charlies - ECPv6.15.20//NONSGML v1.0//EN
CALSCALE:GREGORIAN
METHOD:PUBLISH
X-ORIGINAL-URL:https://cheerupcharlies.com
X-WR-CALDESC:Events for Cheer Up Charlies
REFRESH-INTERVAL;VALUE=DURATION:PT1H
X-Robots-Tag:noindex
X-PUBLISHED-TTL:PT1H
BEGIN:VTIMEZONE
TZID:America/New_York
BEGIN:DAYLIGHT
TZOFFSETFROM:-0500
TZOFFSETTO:-0400
TZNAME:EDT
DTSTART:20160313T070000
END:DAYLIGHT
BEGIN:STANDARD
TZOFFSETFROM:-0400
TZOFFSETTO:-0500
TZNAME:EST
DTSTART:20161106T060000
END:STANDARD
BEGIN:DAYLIGHT
TZOFFSETFROM:-0500
TZOFFSETTO:-0400
TZNAME:EDT
DTSTART:20170312T070000
END:DAYLIGHT
BEGIN:STANDARD
TZOFFSETFROM:-0400
TZOFFSETTO:-0500
TZNAME:EST
DTSTART:20171105T060000
END:STANDARD
BEGIN:DAYLIGHT
TZOFFSETFROM:-0500
TZOFFSETTO:-0400
TZNAME:EDT
DTSTART:20180311T070000
END:DAYLIGHT
BEGIN:STANDARD
TZOFFSETFROM:-0400
TZOFFSETTO:-0500
TZNAME:EST
DTSTART:20181104T060000
END:STANDARD
END:VTIMEZONE
BEGIN:VEVENT
DTSTART;VALUE=DATE:20170815
DTEND;VALUE=DATE:20170816
DTSTAMP:20260425T143631
CREATED:20170814T150652Z
LAST-MODIFIED:20170814T150652Z
UID:7861-1502755200-1502841599@cheerupcharlies.com
SUMMARY:8/15 MEDDAH\, Eburner\, Primary Mystical Experience\, Perspectives on Energy
DESCRIPTION:
URL:https://cheerupcharlies.com/event/815-meddah-eburner-primary-mystical-experience-perspectives-on-energy/
END:VEVENT
BEGIN:VEVENT
DTSTART;VALUE=DATE:20170815
DTEND;VALUE=DATE:20170816
DTSTAMP:20260425T143631
CREATED:20170815T145136Z
LAST-MODIFIED:20170815T145136Z
UID:7869-1502755200-1502841599@cheerupcharlies.com
SUMMARY:8/15 Matt Goletz\, Dwight Smith\, Brandon Luedtke (7:30PM)
DESCRIPTION:
URL:https://cheerupcharlies.com/event/815-matt-goletz-dwight-smith-brandon-luedtke-730pm/
END:VEVENT
END:VCALENDAR